Package: globaltest Version: 5.62.0 Command: /home/biocbuild/R/R/bin/R CMD build --keep-empty-dirs --no-resave-data globaltest StartedAt: 2025-10-14 01:20:07 -0000 (Tue, 14 Oct 2025) EndedAt: 2025-10-14 01:25:25 -0000 (Tue, 14 Oct 2025) EllapsedTime: 318.1 seconds RetCode: 0 Status: OK PackageFile: globaltest_5.62.0.tar.gz PackageFileSize: 550.6 KiB