Package: globalSeq Version: 1.36.0 Command: /home/biocbuild/bbs-3.21-bioc/R/bin/R CMD INSTALL globalSeq StartedAt: 2025-10-15 15:05:47 -0400 (Wed, 15 Oct 2025) EndedAt: 2025-10-15 15:06:20 -0400 (Wed, 15 Oct 2025) EllapsedTime: 33.3 seconds RetCode: 0 Status: OK