Package: globalSeq Version: 1.36.0 Command: /home/biocbuild/R/R/bin/R CMD INSTALL globalSeq StartedAt: 2025-10-13 20:17:01 -0000 (Mon, 13 Oct 2025) EndedAt: 2025-10-13 20:17:45 -0000 (Mon, 13 Oct 2025) EllapsedTime: 44.2 seconds RetCode: 0 Status: OK