Package: globalSeq Version: 1.36.0 Command: /Library/Frameworks/R.framework/Resources/bin/R CMD INSTALL globalSeq StartedAt: 2025-10-13 15:18:07 -0400 (Mon, 13 Oct 2025) EndedAt: 2025-10-13 15:18:14 -0400 (Mon, 13 Oct 2025) EllapsedTime: 7.6 seconds RetCode: 0 Status: OK