Package: globalSeq Version: 1.36.0 Command: /Library/Frameworks/R.framework/Resources/bin/R CMD build --keep-empty-dirs --no-resave-data globalSeq StartedAt: 2025-10-14 01:22:04 -0400 (Tue, 14 Oct 2025) EndedAt: 2025-10-14 01:22:22 -0400 (Tue, 14 Oct 2025) EllapsedTime: 18.4 seconds RetCode: 0 Status: OK PackageFile: globalSeq_1.36.0.tar.gz PackageFileSize: 715.4 KiB