Package: glmSparseNet Version: 1.26.0 Command: /home/biocbuild/bbs-3.21-bioc/R/bin/R CMD INSTALL glmSparseNet StartedAt: 2025-10-15 15:41:59 -0400 (Wed, 15 Oct 2025) EndedAt: 2025-10-15 15:42:02 -0400 (Wed, 15 Oct 2025) EllapsedTime: 3.2 seconds RetCode: 0 Status: OK