Package: glmSparseNet Version: 1.26.0 Command: /home/biocbuild/R/R/bin/R CMD INSTALL glmSparseNet StartedAt: 2025-10-13 20:58:50 -0000 (Mon, 13 Oct 2025) EndedAt: 2025-10-13 20:58:54 -0000 (Mon, 13 Oct 2025) EllapsedTime: 4.2 seconds RetCode: 0 Status: OK