Package: glmSparseNet Version: 1.26.0 Command: /home/biocbuild/R/R/bin/R CMD check --install=check:glmSparseNet.install-out.txt --library=/home/biocbuild/R/R/site-library --no-vignettes --timings glmSparseNet_1.26.0.tar.gz StartedAt: 2025-10-14 09:44:28 -0000 (Tue, 14 Oct 2025) EndedAt: 2025-10-14 09:46:41 -0000 (Tue, 14 Oct 2025) EllapsedTime: 133.1 seconds RetCode: 0 Status: OK CheckDir: glmSparseNet.Rcheck Warnings: 0