Package: glmSparseNet Version: 1.26.0 Command: /home/biocbuild/R/R/bin/R CMD build --keep-empty-dirs --no-resave-data glmSparseNet StartedAt: 2025-10-14 01:17:04 -0000 (Tue, 14 Oct 2025) EndedAt: 2025-10-14 01:23:26 -0000 (Tue, 14 Oct 2025) EllapsedTime: 382.1 seconds RetCode: 0 Status: OK PackageFile: glmSparseNet_1.26.0.tar.gz PackageFileSize: 2.831 MiB