Package: glmSparseNet Version: 1.26.0 Command: /Library/Frameworks/R.framework/Resources/bin/R CMD check --install=check:glmSparseNet.install-out.txt --library=/Library/Frameworks/R.framework/Resources/library --no-vignettes --timings glmSparseNet_1.26.0.tar.gz StartedAt: 2025-10-14 23:24:56 -0400 (Tue, 14 Oct 2025) EndedAt: 2025-10-14 23:26:57 -0400 (Tue, 14 Oct 2025) EllapsedTime: 121.2 seconds RetCode: 0 Status: OK CheckDir: glmSparseNet.Rcheck Warnings: 0