Package: glmSparseNet Version: 1.26.0 Command: rm -rf glmSparseNet.buildbin-libdir && mkdir glmSparseNet.buildbin-libdir && /Users/biocbuild/BBS/utils/build-universal.sh glmSparseNet_1.26.0.tar.gz /Library/Frameworks/R.framework/Resources/bin/R glmSparseNet.buildbin-libdir StartedAt: 2025-10-15 18:44:01 -0400 (Wed, 15 Oct 2025) EndedAt: 2025-10-15 18:44:08 -0400 (Wed, 15 Oct 2025) EllapsedTime: 6.6 seconds RetCode: 0 Status: OK PackageFile: glmSparseNet_1.26.0.tgz PackageFileSize: 2.898 MiB