Package: glmGamPoi Version: 1.20.0 Command: /home/biocbuild/R/R/bin/R CMD build --keep-empty-dirs --no-resave-data glmGamPoi StartedAt: 2025-10-14 01:16:59 -0000 (Tue, 14 Oct 2025) EndedAt: 2025-10-14 01:29:09 -0000 (Tue, 14 Oct 2025) EllapsedTime: 730.2 seconds RetCode: 0 Status: OK PackageFile: glmGamPoi_1.20.0.tar.gz PackageFileSize: 2.077 MiB