Package: ggtreeSpace Version: 1.4.0 Command: /home/biocbuild/R/R/bin/R CMD INSTALL ggtreeSpace StartedAt: 2025-10-13 20:21:45 -0000 (Mon, 13 Oct 2025) EndedAt: 2025-10-13 20:22:01 -0000 (Mon, 13 Oct 2025) EllapsedTime: 16.0 seconds RetCode: 0 Status: OK