Package: ggtreeSpace Version: 1.4.0 Command: /home/biocbuild/R/R/bin/R CMD build --keep-empty-dirs --no-resave-data ggtreeSpace StartedAt: 2025-10-14 01:15:06 -0000 (Tue, 14 Oct 2025) EndedAt: 2025-10-14 01:15:33 -0000 (Tue, 14 Oct 2025) EllapsedTime: 27.0 seconds RetCode: 0 Status: OK PackageFile: ggtreeSpace_1.4.0.tar.gz PackageFileSize: 429.2 KiB