Package: ggtreeSpace Version: 1.4.0 Command: /Library/Frameworks/R.framework/Resources/bin/R CMD build --keep-empty-dirs --no-resave-data ggtreeSpace StartedAt: 2025-10-14 01:14:39 -0400 (Tue, 14 Oct 2025) EndedAt: 2025-10-14 01:15:04 -0400 (Tue, 14 Oct 2025) EllapsedTime: 25.3 seconds RetCode: 0 Status: OK PackageFile: ggtreeSpace_1.4.0.tar.gz PackageFileSize: 603.5 KiB