Package: ggtreeSpace Version: 1.4.0 Command: rm -rf ggtreeSpace.buildbin-libdir && mkdir ggtreeSpace.buildbin-libdir && /Users/biocbuild/BBS/utils/build-universal.sh ggtreeSpace_1.4.0.tar.gz /Library/Frameworks/R.framework/Resources/bin/R ggtreeSpace.buildbin-libdir StartedAt: 2025-10-15 18:43:26 -0400 (Wed, 15 Oct 2025) EndedAt: 2025-10-15 18:43:40 -0400 (Wed, 15 Oct 2025) EllapsedTime: 13.5 seconds RetCode: 0 Status: OK PackageFile: ggtreeSpace_1.4.0.tgz PackageFileSize: 636.7 KiB