Package: ggtreeExtra Version: 1.18.1 Command: /home/biocbuild/R/R/bin/R CMD INSTALL ggtreeExtra StartedAt: 2025-10-13 20:21:43 -0000 (Mon, 13 Oct 2025) EndedAt: 2025-10-13 20:21:54 -0000 (Mon, 13 Oct 2025) EllapsedTime: 11.1 seconds RetCode: 0 Status: OK