Package: ggtreeExtra Version: 1.18.1 Command: /home/biocbuild/R/R/bin/R CMD build --keep-empty-dirs --no-resave-data ggtreeExtra StartedAt: 2025-10-14 01:15:06 -0000 (Tue, 14 Oct 2025) EndedAt: 2025-10-14 01:15:21 -0000 (Tue, 14 Oct 2025) EllapsedTime: 15.0 seconds RetCode: 1 Status: ERROR PackageFile: None PackageFileSize: NA