Package: ggtree Version: 3.16.3 Command: /home/biocbuild/bbs-3.21-bioc/R/bin/R CMD check --install=check:ggtree.install-out.txt --library=/home/biocbuild/bbs-3.21-bioc/R/site-library --timings ggtree_3.16.3.tar.gz StartedAt: 2025-10-15 23:43:18 -0400 (Wed, 15 Oct 2025) EndedAt: 2025-10-15 23:44:40 -0400 (Wed, 15 Oct 2025) EllapsedTime: 82.2 seconds RetCode: 0 Status: OK CheckDir: ggtree.Rcheck Warnings: 0