Package: ggseqalign Version: 1.2.0 Command: /home/biocbuild/R/R/bin/R CMD build --keep-empty-dirs --no-resave-data ggseqalign StartedAt: 2025-10-14 01:14:24 -0000 (Tue, 14 Oct 2025) EndedAt: 2025-10-14 01:15:06 -0000 (Tue, 14 Oct 2025) EllapsedTime: 42.0 seconds RetCode: 0 Status: OK PackageFile: ggseqalign_1.2.0.tar.gz PackageFileSize: 715.8 KiB