Package: ggseqalign Version: 1.2.0 Command: /Library/Frameworks/R.framework/Resources/bin/R CMD INSTALL ggseqalign StartedAt: 2025-10-13 18:04:34 -0400 (Mon, 13 Oct 2025) EndedAt: 2025-10-13 18:04:49 -0400 (Mon, 13 Oct 2025) EllapsedTime: 15.1 seconds RetCode: 0 Status: OK