Package: ggseqalign Version: 1.2.0 Command: /Library/Frameworks/R.framework/Resources/bin/R CMD build --keep-empty-dirs --no-resave-data ggseqalign StartedAt: 2025-10-14 01:13:24 -0400 (Tue, 14 Oct 2025) EndedAt: 2025-10-14 01:14:02 -0400 (Tue, 14 Oct 2025) EllapsedTime: 37.8 seconds RetCode: 0 Status: OK PackageFile: ggseqalign_1.2.0.tar.gz PackageFileSize: 714.2 KiB