Package: ggseqalign Version: 1.2.0 Command: rm -rf ggseqalign.buildbin-libdir && mkdir ggseqalign.buildbin-libdir && /Users/biocbuild/BBS/utils/build-universal.sh ggseqalign_1.2.0.tar.gz /Library/Frameworks/R.framework/Resources/bin/R ggseqalign.buildbin-libdir StartedAt: 2025-10-15 18:42:56 -0400 (Wed, 15 Oct 2025) EndedAt: 2025-10-15 18:43:13 -0400 (Wed, 15 Oct 2025) EllapsedTime: 17.0 seconds RetCode: 0 Status: OK PackageFile: ggseqalign_1.2.0.tgz PackageFileSize: 730 KiB