Package: getDEE2 Version: 1.18.0 Command: /home/biocbuild/bbs-3.21-bioc/R/bin/R CMD build --keep-empty-dirs --no-resave-data getDEE2 StartedAt: 2025-10-15 17:43:05 -0400 (Wed, 15 Oct 2025) EndedAt: 2025-10-15 17:45:03 -0400 (Wed, 15 Oct 2025) EllapsedTime: 118.1 seconds RetCode: 0 Status: OK PackageFile: getDEE2_1.18.0.tar.gz PackageFileSize: 22.04 KiB