Package: getDEE2 Version: 1.18.0 Command: /home/biocbuild/R/R/bin/R CMD INSTALL getDEE2 StartedAt: 2025-10-13 20:30:57 -0000 (Mon, 13 Oct 2025) EndedAt: 2025-10-13 20:31:25 -0000 (Mon, 13 Oct 2025) EllapsedTime: 27.4 seconds RetCode: 0 Status: OK