Package: getDEE2 Version: 1.18.0 Command: /home/biocbuild/R/R/bin/R CMD build --keep-empty-dirs --no-resave-data getDEE2 StartedAt: 2025-10-14 01:11:00 -0000 (Tue, 14 Oct 2025) EndedAt: 2025-10-14 01:19:55 -0000 (Tue, 14 Oct 2025) EllapsedTime: 535.1 seconds RetCode: 0 Status: OK PackageFile: getDEE2_1.18.0.tar.gz PackageFileSize: 22.68 KiB