Package: getDEE2 Version: 1.18.0 Command: /Library/Frameworks/R.framework/Resources/bin/R CMD INSTALL getDEE2 StartedAt: 2025-10-13 16:08:50 -0400 (Mon, 13 Oct 2025) EndedAt: 2025-10-13 16:09:13 -0400 (Mon, 13 Oct 2025) EllapsedTime: 23.4 seconds RetCode: 0 Status: OK