Package: getDEE2 Version: 1.18.0 Command: /Library/Frameworks/R.framework/Resources/bin/R CMD build --keep-empty-dirs --no-resave-data getDEE2 StartedAt: 2025-10-14 01:08:51 -0400 (Tue, 14 Oct 2025) EndedAt: 2025-10-14 01:10:09 -0400 (Tue, 14 Oct 2025) EllapsedTime: 77.4 seconds RetCode: 0 Status: OK PackageFile: getDEE2_1.18.0.tar.gz PackageFileSize: 21.89 KiB