Package: gep2pep Version: 1.28.0 Command: /home/biocbuild/R/R/bin/R CMD INSTALL gep2pep StartedAt: 2025-10-13 21:06:22 -0000 (Mon, 13 Oct 2025) EndedAt: 2025-10-13 21:06:45 -0000 (Mon, 13 Oct 2025) EllapsedTime: 22.7 seconds RetCode: 0 Status: OK