Package: geomeTriD Version: 1.2.2 Command: /home/biocbuild/R/R/bin/R CMD build --keep-empty-dirs --no-resave-data geomeTriD StartedAt: 2025-10-14 01:10:09 -0000 (Tue, 14 Oct 2025) EndedAt: 2025-10-14 01:12:18 -0000 (Tue, 14 Oct 2025) EllapsedTime: 129.0 seconds RetCode: 0 Status: OK PackageFile: geomeTriD_1.2.2.tar.gz PackageFileSize: 1.139 MiB