Package: geneplotter Version: 1.86.0 Command: /home/biocbuild/R/R/bin/R CMD INSTALL geneplotter StartedAt: 2025-10-13 20:42:18 -0000 (Mon, 13 Oct 2025) EndedAt: 2025-10-13 20:42:37 -0000 (Mon, 13 Oct 2025) EllapsedTime: 19.2 seconds RetCode: 0 Status: OK