Package: geneClassifiers Version: 1.32.0 Command: /home/biocbuild/R/R/bin/R CMD build --keep-empty-dirs --no-resave-data geneClassifiers StartedAt: 2025-10-14 01:02:30 -0000 (Tue, 14 Oct 2025) EndedAt: 2025-10-14 01:02:44 -0000 (Tue, 14 Oct 2025) EllapsedTime: 14.0 seconds RetCode: 0 Status: OK PackageFile: geneClassifiers_1.32.0.tar.gz PackageFileSize: 1.83 MiB