Package: gemma.R Version: 3.4.6 Command: /Library/Frameworks/R.framework/Resources/bin/R CMD INSTALL gemma.R StartedAt: 2025-10-13 15:33:01 -0400 (Mon, 13 Oct 2025) EndedAt: 2025-10-13 15:33:14 -0400 (Mon, 13 Oct 2025) EllapsedTime: 12.6 seconds RetCode: 0 Status: OK