Package: gemma.R Version: 3.4.6 Command: /Library/Frameworks/R.framework/Resources/bin/R CMD build --keep-empty-dirs --no-resave-data gemma.R StartedAt: 2025-10-13 19:13:37 -0400 (Mon, 13 Oct 2025) EndedAt: 2025-10-13 19:19:49 -0400 (Mon, 13 Oct 2025) EllapsedTime: 371.1 seconds RetCode: 0 Status: OK PackageFile: gemma.R_3.4.6.tar.gz PackageFileSize: 2.141 MiB