Package: gemma.R Version: 3.4.6 Command: /home/biocbuild/R/R/bin/R CMD INSTALL gemma.R StartedAt: 2025-10-13 20:30:51 -0000 (Mon, 13 Oct 2025) EndedAt: 2025-10-13 20:30:58 -0000 (Mon, 13 Oct 2025) EllapsedTime: 7.8 seconds RetCode: 0 Status: OK