Package: gemma.R Version: 3.4.6 Command: /home/biocbuild/R/R/bin/R CMD build --keep-empty-dirs --no-resave-data gemma.R StartedAt: 2025-10-14 01:02:14 -0000 (Tue, 14 Oct 2025) EndedAt: 2025-10-14 01:23:13 -0000 (Tue, 14 Oct 2025) EllapsedTime: 1259.4 seconds RetCode: 0 Status: OK PackageFile: gemma.R_3.4.6.tar.gz PackageFileSize: 2.345 MiB