Package: gemma.R Version: 3.4.6 Command: rm -rf gemma.R.buildbin-libdir && mkdir gemma.R.buildbin-libdir && /Users/biocbuild/BBS/utils/build-universal.sh gemma.R_3.4.6.tar.gz /Library/Frameworks/R.framework/Resources/bin/R gemma.R.buildbin-libdir StartedAt: 2025-10-15 18:36:26 -0400 (Wed, 15 Oct 2025) EndedAt: 2025-10-15 18:36:34 -0400 (Wed, 15 Oct 2025) EllapsedTime: 8.0 seconds RetCode: 0 Status: OK PackageFile: gemma.R_3.4.6.tgz PackageFileSize: 2.346 MiB