Package: gemini Version: 1.22.0 Command: /home/biocbuild/R/R/bin/R CMD build --keep-empty-dirs --no-resave-data gemini StartedAt: 2025-10-14 01:02:13 -0000 (Tue, 14 Oct 2025) EndedAt: 2025-10-14 01:02:52 -0000 (Tue, 14 Oct 2025) EllapsedTime: 39.0 seconds RetCode: 0 Status: OK PackageFile: gemini_1.22.0.tar.gz PackageFileSize: 4.072 MiB