Package: geNetClassifier Version: 1.48.0 Command: /home/biocbuild/bbs-3.21-bioc/R/bin/R CMD INSTALL geNetClassifier StartedAt: 2025-10-15 15:57:02 -0400 (Wed, 15 Oct 2025) EndedAt: 2025-10-15 15:57:11 -0400 (Wed, 15 Oct 2025) EllapsedTime: 9.0 seconds RetCode: 0 Status: OK