Package: geNetClassifier Version: 1.48.0 Command: /home/biocbuild/R/R/bin/R CMD INSTALL geNetClassifier StartedAt: 2025-10-13 20:26:27 -0000 (Mon, 13 Oct 2025) EndedAt: 2025-10-13 20:26:40 -0000 (Mon, 13 Oct 2025) EllapsedTime: 13.0 seconds RetCode: 0 Status: OK