Package: geNetClassifier Version: 1.48.0 Command: /home/biocbuild/R/R/bin/R CMD build --keep-empty-dirs --no-resave-data geNetClassifier StartedAt: 2025-10-14 01:04:37 -0000 (Tue, 14 Oct 2025) EndedAt: 2025-10-14 01:04:58 -0000 (Tue, 14 Oct 2025) EllapsedTime: 21.0 seconds RetCode: 0 Status: OK PackageFile: geNetClassifier_1.48.0.tar.gz PackageFileSize: 3.929 MiB