Package: geNetClassifier Version: 1.48.0 Command: /Library/Frameworks/R.framework/Resources/bin/R CMD INSTALL geNetClassifier StartedAt: 2025-10-13 18:27:23 -0400 (Mon, 13 Oct 2025) EndedAt: 2025-10-13 18:27:33 -0400 (Mon, 13 Oct 2025) EllapsedTime: 10.4 seconds RetCode: 0 Status: OK