Package: geNetClassifier Version: 1.48.0 Command: /Library/Frameworks/R.framework/Resources/bin/R CMD build --keep-empty-dirs --no-resave-data geNetClassifier StartedAt: 2025-10-14 00:56:30 -0400 (Tue, 14 Oct 2025) EndedAt: 2025-10-14 00:56:55 -0400 (Tue, 14 Oct 2025) EllapsedTime: 25.0 seconds RetCode: 0 Status: OK PackageFile: geNetClassifier_1.48.0.tar.gz PackageFileSize: 3.94 MiB