Package: gdsfmt Version: 1.44.1 Command: /home/biocbuild/R/R/bin/R CMD INSTALL gdsfmt StartedAt: 2025-10-13 20:13:16 -0000 (Mon, 13 Oct 2025) EndedAt: 2025-10-13 20:18:49 -0000 (Mon, 13 Oct 2025) EllapsedTime: 333.1 seconds RetCode: 0 Status: OK