Package: gdsfmt Version: 1.44.1 Command: /home/biocbuild/R/R/bin/R CMD build --keep-empty-dirs --no-resave-data gdsfmt StartedAt: 2025-10-14 01:02:03 -0000 (Tue, 14 Oct 2025) EndedAt: 2025-10-14 01:07:45 -0000 (Tue, 14 Oct 2025) EllapsedTime: 342.1 seconds RetCode: 0 Status: OK PackageFile: gdsfmt_1.44.1.tar.gz PackageFileSize: 2.817 MiB