Package: gdsfmt Version: 1.44.1 Maintainer: Xiuwen Zheng MaintainerEmail: zhengx at u.washington.edu git_url: https://git.bioconductor.org/packages/gdsfmt git_branch: RELEASE_3_21 git_last_commit: ba1ba0d git_last_commit_date: 2025-07-05 01:19:50 -0400 (Sat, 05 Jul 2025)