Package: gatom Version: 1.6.0 Command: /home/biocbuild/bbs-3.21-bioc/R/bin/R CMD INSTALL gatom StartedAt: 2025-10-15 15:25:14 -0400 (Wed, 15 Oct 2025) EndedAt: 2025-10-15 15:25:31 -0400 (Wed, 15 Oct 2025) EllapsedTime: 17.1 seconds RetCode: 0 Status: OK