Package: gatom Version: 1.6.0 Command: /home/biocbuild/bbs-3.21-bioc/R/bin/R CMD build --keep-empty-dirs --no-resave-data gatom StartedAt: 2025-10-15 17:35:33 -0400 (Wed, 15 Oct 2025) EndedAt: 2025-10-15 17:40:49 -0400 (Wed, 15 Oct 2025) EllapsedTime: 316.3 seconds RetCode: 0 Status: OK PackageFile: gatom_1.6.0.tar.gz PackageFileSize: 1.608 MiB