Package: gatom Version: 1.6.0 Command: /home/biocbuild/R/R/bin/R CMD INSTALL gatom StartedAt: 2025-10-13 20:39:53 -0000 (Mon, 13 Oct 2025) EndedAt: 2025-10-13 20:40:19 -0000 (Mon, 13 Oct 2025) EllapsedTime: 25.3 seconds RetCode: 0 Status: OK