Package: gatom Version: 1.6.0 Command: /home/biocbuild/R/R/bin/R CMD build --keep-empty-dirs --no-resave-data gatom StartedAt: 2025-10-14 00:59:53 -0000 (Tue, 14 Oct 2025) EndedAt: 2025-10-14 01:21:51 -0000 (Tue, 14 Oct 2025) EllapsedTime: 1318.4 seconds RetCode: 0 Status: OK PackageFile: gatom_1.6.0.tar.gz PackageFileSize: 1.87 MiB